BEGIN:VCALENDAR
VERSION:2.0
PRODID:-//MCE – Community Choice Energy - ECPv6.15.20//NONSGML v1.0//EN
CALSCALE:GREGORIAN
METHOD:PUBLISH
X-WR-CALNAME:MCE – Community Choice Energy
X-ORIGINAL-URL:https://mcecleanenergy.org/pa
X-WR-CALDESC:Events for MCE – Community Choice Energy
REFRESH-INTERVAL;VALUE=DURATION:PT1H
X-Robots-Tag:noindex
X-PUBLISHED-TTL:PT1H
BEGIN:VTIMEZONE
TZID:America/Los_Angeles
BEGIN:DAYLIGHT
TZOFFSETFROM:-0800
TZOFFSETTO:-0700
TZNAME:PDT
DTSTART:20230312T100000
END:DAYLIGHT
BEGIN:STANDARD
TZOFFSETFROM:-0700
TZOFFSETTO:-0800
TZNAME:PST
DTSTART:20231105T090000
END:STANDARD
BEGIN:DAYLIGHT
TZOFFSETFROM:-0800
TZOFFSETTO:-0700
TZNAME:PDT
DTSTART:20240310T100000
END:DAYLIGHT
BEGIN:STANDARD
TZOFFSETFROM:-0700
TZOFFSETTO:-0800
TZNAME:PST
DTSTART:20241103T090000
END:STANDARD
BEGIN:DAYLIGHT
TZOFFSETFROM:-0800
TZOFFSETTO:-0700
TZNAME:PDT
DTSTART:20250309T100000
END:DAYLIGHT
BEGIN:STANDARD
TZOFFSETFROM:-0700
TZOFFSETTO:-0800
TZNAME:PST
DTSTART:20251102T090000
END:STANDARD
END:VTIMEZONE
BEGIN:VEVENT
DTSTART;TZID=America/Los_Angeles:20240928T110000
DTEND;TZID=America/Los_Angeles:20240928T160000
DTSTAMP:20260423T014814
CREATED:20240731T231647Z
LAST-MODIFIED:20240731T231833Z
UID:10000074-1727521200-1727539200@mcecleanenergy.org
SUMMARY:Town of Moraga’s Peer and Wine Festival
DESCRIPTION:The annual Pear and Wine Festival is a community event celebrating the Town’s heritage and fall harvest. This\nfamily friendly event features kids’ activities\, community booths\, fall harvest treats\, and more. The event is\ntypically held at the end of September. \nEnjoy the afternoon with family and friends at Moraga Commons Park. Stroll through the park and learn about\nvarious community organizations and services and Moraga history\, and support local businesses. Don’t miss\nthe pear pies\, pear salad\, specialty pear beverages and wine from the Lamorinda AVA while listening to live\nmusic. Children will enjoy the inflatable jumpies\, various craft activities\, and a free petting zoo. \nLocal bands\, dance groups\, martial arts groups\, comedians\, magicians… We want to showcase the talent\nand creativity of Moraga! Submit an application to perform on the bandshell stage throughout the event!\nPerformance slots can be anywhere from 10 – 30 minutes\, sound equipment (PA system) will be provided.\nPlease email recdesk@moraga.ca.us if you are interested!
URL:https://mcecleanenergy.org/pa/event/town-of-moragas-peer-and-wine-festival/
LOCATION:Moraga Commons Park\, 1425 St Marys Rd\, Moraga\, CA\, 94556\, United States
CATEGORIES:Community,Community|Contra Costa,Food
ATTACH;FMTTYPE=image/jpeg:https://mcecleanenergy.org/wp-content/uploads/2024/07/Pear-and-Wine-2024.jpg
ORGANIZER;CN="Town of Moraga":MAILTO:recdesk@moraga.ca.us
GEO:37.8413387;-122.1238603
X-APPLE-STRUCTURED-LOCATION;VALUE=URI;X-ADDRESS=Moraga Commons Park 1425 St Marys Rd Moraga CA 94556 United States;X-APPLE-RADIUS=500;X-TITLE=1425 St Marys Rd:geo:-122.1238603,37.8413387
END:VEVENT
END:VCALENDAR