BEGIN:VCALENDAR
VERSION:2.0
PRODID:-//MCE – Community Choice Energy - ECPv6.15.20//NONSGML v1.0//EN
CALSCALE:GREGORIAN
METHOD:PUBLISH
X-ORIGINAL-URL:https://mcecleanenergy.org
X-WR-CALDESC:Events for MCE – Community Choice Energy
REFRESH-INTERVAL;VALUE=DURATION:PT1H
X-Robots-Tag:noindex
X-PUBLISHED-TTL:PT1H
BEGIN:VTIMEZONE
TZID:America/Los_Angeles
BEGIN:DAYLIGHT
TZOFFSETFROM:-0800
TZOFFSETTO:-0700
TZNAME:PDT
DTSTART:20230312T100000
END:DAYLIGHT
BEGIN:STANDARD
TZOFFSETFROM:-0700
TZOFFSETTO:-0800
TZNAME:PST
DTSTART:20231105T090000
END:STANDARD
BEGIN:DAYLIGHT
TZOFFSETFROM:-0800
TZOFFSETTO:-0700
TZNAME:PDT
DTSTART:20240310T100000
END:DAYLIGHT
BEGIN:STANDARD
TZOFFSETFROM:-0700
TZOFFSETTO:-0800
TZNAME:PST
DTSTART:20241103T090000
END:STANDARD
BEGIN:DAYLIGHT
TZOFFSETFROM:-0800
TZOFFSETTO:-0700
TZNAME:PDT
DTSTART:20250309T100000
END:DAYLIGHT
BEGIN:STANDARD
TZOFFSETFROM:-0700
TZOFFSETTO:-0800
TZNAME:PST
DTSTART:20251102T090000
END:STANDARD
END:VTIMEZONE
BEGIN:VEVENT
DTSTART;TZID=America/Los_Angeles:20240928T130000
DTEND;TZID=America/Los_Angeles:20240928T160000
DTSTAMP:20260423T104704
CREATED:20240925T144238Z
LAST-MODIFIED:20240925T144238Z
UID:10000094-1727528400-1727539200@mcecleanenergy.org
SUMMARY:4th Annual Faire with the UC Master Gardeners of Napa County
DESCRIPTION:Come join us at the 4th Annual Fall Faire where Science Fair meets Carnival sponsored by the UC Master Gardeners of Napa County. \nOver 25 educational booths\, demonstrations\, activities for kids and adults. \nGiveaways from seed packets\, bulbs\, succulents\, to books and more!
URL:https://mcecleanenergy.org/event/4th-annual-faire-with-the-uc-master-gardeners-of-napa-county/
LOCATION:1710 Soscol AveNapa\, CA 94558\, 1710 Soscol Ave\, Napa\, California\, 94558
ATTACH;FMTTYPE=image/jpeg:https://mcecleanenergy.org/wp-content/uploads/2024/09/2024-Fall-Faire.jpg
GEO:38.3057676;-122.2834543
X-APPLE-STRUCTURED-LOCATION;VALUE=URI;X-ADDRESS=1710 Soscol AveNapa CA 94558 1710 Soscol Ave Napa California 94558;X-APPLE-RADIUS=500;X-TITLE=1710 Soscol Ave:geo:-122.2834543,38.3057676
END:VEVENT
END:VCALENDAR